<PAMDataset>
  <SRS>GEOGCS["GCS_WGS_1984",DATUM["D_WGS_1984",SPHEROID["WGS_1984",6378137,298.257223563]],PRIMEM["Greenwich",0],UNIT["degree",0.0174532925199433]]</SRS>
  <GeoTransform>  1.2086598000000000e+01,  1.3180000000000001e-02,  0.0000000000000000e+00,  5.1055781000000003e+01,  0.0000000000000000e+00, -1.3180000000000001e-02</GeoTransform>
  <Metadata domain="IMAGE_STRUCTURE">
    <MDI key="INTERLEAVE">PIXEL</MDI>
  </Metadata>
  <Metadata>
    <MDI key="AREA_OR_POINT">Area</MDI>
  </Metadata>
</PAMDataset>
